Workbook
Name Aviation_Gasoline: Dropdowns!$P$52
Name Biodiesel: Dropdowns!$P$39:$P$42
Name CNG: Dropdowns!$P$44:$P$45
Name DEFRA_EC_BT: Dropdowns!$Q$14:$Q$27
Name Diesel_Fuel: Dropdowns!$P$31:$P$37
Name EC_BT_UK_DEFRA_Air: Dropdowns!$R$32:$R$45
Name EC_BT_UK_DEFRA_Air_RF: Dropdowns!$R$89:$R$102
Name EC_BT_UK_DEFRA_Bus: Dropdowns!$R$28
Name EC_BT_UK_DEFRA_Car: Dropdowns!$R$18:$R$27
Name EC_BT_UK_DEFRA_Ferry: Dropdowns!$R$46
Name EC_BT_UK_DEFRA_Rail: Dropdowns!$R$29:$R$31
Name EC_BT_US_EPA_Air: Dropdowns!$R$14:$R$16
Name EC_BT_US_EPA_Bus: Dropdowns!$R$13
Name EC_BT_US_EPA_Car: Dropdowns!$R$7:$R$9
Name EC_BT_US_EPA_Rail: Dropdowns!$R$10:$R$12
Name Ethanol: Dropdowns!$P$47:$P$48
Name Facility_ID: Parameters!$G$43:$G$52
Name Fuel_Source: Dropdowns!$O$2:$O$8
Name Fuel_Source_Dropdown: Dropdowns!$O$13:$P$19
Name Heat_Steam: Dropdowns!$S$16:$S$17
Name Jet_Fuel: Dropdowns!$P$50
Name Location_Based_EF: Dropdowns!$S$12:$S$13
Name Market_Based_EF: Dropdowns!$S$7:$S$9
Name Motor_Gasoline: Dropdowns!$P$22:$P$29
Name PE_Heat_Custom_EF: Parameters!$S$65:$S$94
Name PE_LB_Custom_EF: Parameters!$U$65:$U$94
Name PE_MB_Custom_EF: Parameters!$T$65:$T$94
Name S1_MC_Custom_EF: Parameters!$Q$65:$Q$94
Name S1_Ref_Custom_EF: Parameters!$R$65:$R$94
Name S1_SC_Custom_EF: Parameters!$P$65:$P$94
Name S3_Custom_EF: Parameters!$V$65:$V$94
Name Scope3_Dropdown: Dropdowns!$Q$2:$R$4
Name Std_Units: [1]REF_Conversions!$A$8:$B$104
Name T_D_UK_DEFRA_Air: Dropdowns!$R$69:$R$72
Name T_D_UK_DEFRA_Air_RF: Dropdowns!$R$105:$R$108
Name T_D_UK_DEFRA_Car: Dropdowns!$R$57:$R$68
Name T_D_UK_DEFRA_Ferry: Dropdowns!$R$74:$R$85
Name T_D_UK_DEFRA_Rail: Dropdowns!$R$73
Name T_D_US_EPA_Air: Dropdowns!$R$54
Name T_D_US_EPA_Car: Dropdowns!$R$48:$R$50
Name T_D_US_EPA_Ferry: Dropdowns!$R$53
Name T_D_US_EPA_Rail: Dropdowns!$R$52
Name UK_DEFRA: Dropdowns!$D$3
Name US_EPA: Dropdowns!$D$2

Sheet Introduction
B17: Welcome to the GHG Emissions Calculation Tool
B18: A calculation tool for estimating GHG emissions based on the GHG Protocol
B21: ● How to use this tool:
B22: • Fill in company and facility information in the "Parameters" sheet. Also, provide any custom emission factors here for use in subsequent worksheets. • The tool uses default emission factors, which vary by country. These are free to use and publicly available, and the tool includes links of where to obtain them. Currently, separate sets of emission factors are available for the UK and US. Location-based Scope 2 emission factors are also available for the US, Canada and Australia, while market-based residual mix emission factors are available for the US, Canada and all European counties. • On the "Parameters" tab, users can supply custom emission factors, adjust the default global warming potentials and choose whether to use radiative forcing factors for air travel. • The maximum number of facilities for this tool is 10. Additional rows cannot be added to the Facility table. • Use each of the sheets to input inventory data for the various activities. Make sure to choose custom emission factors, if any, and to select the proper units. • If the results don't show, please make sure that all the relevant options have been selected and that the correct Emission Factors have been chosen. • To add more rows to any table, click on the "Insert Row" button next to the table. Do not try adding rows manually as that might affect the cell formulae. • The GHG emissions results for each activity types are provided in the "Results Summary" sheet, with an option to print the results.
B26: Data entry fields are color-coded as follows to guide you:
C27: light blue: numerical or text data entry
C28: orange: option selection (dropdown data entry field)
C29: light gray: data that you cannot edit on the current page
C30: teal: cells that should not be edited as they are not relevant for the selected options
B35: Disclaimer: the tool does not necessarily cover all sources relevant to the user
B36: This tool covers the following cross-sectoral emission sources: Scope 1 - Stationary Combustion, Mobile Combustion, and Fugitive Emissions from Air Conditioning Scope 2 - Purchased Electricity and Purchased Heat/Steam Scope 3 - Upstream Transportation and Distribution, Business Travel, and Employee Commuting Companies will have other emissions sources in their value chain and potentially also their internal operations. Companies should strive to calculate these other emissions, when appropriate. The WRI/Quantis Scope 3 Evaluator offers one approach for estimating emissions for a number of upstream scope 3 categories.
G41: Designed and built by

Sheet Instructions
B1: Parameters
B2: 1 | C2: Enter company information, choose the GWP dataset (AR4 or AR5), and select whether to use RF factors for Business Air Travel emissions.
B3: 2 | C3: Enter the facility information including name, location (city and country), Facility ID and Grid Region. NOTE: The Grid Region is important to select for Scope 2 Purchased Electricity calculations. This drop-down will populate based on the selection of the facility country
B4: 3 | C4: Enter information for Custom Emission Factors if any are used in the Custom Emission Factors table. This list will be shown on the calculation tables if "Custom Emission Factors" are chosen in the table for each calculation.
C5: Examples of calculations are provided throughout the tool. Please ensure that you remove these example calculations, so they are not included in your final results
B7: S1 - Stationary Combustion
B8: 1 | C8: Enter Facility ID and Year from the drop-downs.
B9: 2 | C9: Select the relevant "Custom Emission Factors" drop-down. NOTE: This is important to select even if you are not using custom emission factors. Fuel drop-down only becomes available once the Custom Emission Factors drop-down is selected as “No”. If the Custom Emission Factors is selected as “Yes”, the drop-down will connect to the Custom Emission Factors table in the “Parameters” tab.
B10: 3 | C10: The Fuel drop-down will display options based on the previous field selection. If "Custom Emission Factors" are selected as yes, the field will populate from the Custom Emission Factors table in the Parameters Tab.
B11: 4 | C11: Enter the amount of fuel used and the units.
B12: 5 | C12: Total GHG emissions for that activity will be calculated at the bottom of the table and will be available in the Results Summary Tab.
C13: Examples of calculations are provided throughout the tool. Please ensure that you remove these example calculations, so they are not included in your final results
B15: S1 - Mobile Combustion
B16: 1 | C16: Enter Facility ID and Year from the drop-downs. The Description field is optional and can be added as well.
B17: 2 | C17: Enter Activity Type. NOTE: When “custom emission factor” is selected, the drop-downs are connect to the Custom Emission Factors table in the “Parameters” tab, so will have to enter the custom emission factor in that table for it to show up.
B18: 3 | C18: Select the relevant Fuel Source and Vehicle Type for all Activity Types.
B19: 4 | C19: Enter the Activity Amount and Units. The Units will change depending on the Activity Type selected. NOTE: Distance Activity will have Units in distance. For Distance Activity, a default mileage value will be used for vehicles that is available in the emission factors tab
B20: 5 | C20: Total GHG emissions for that activity will be calculated at the bottom of the table and will be available in the Results Summary Tab.
C21: Examples of calculations are provided throughout the tool. Please ensure that you remove these example calculations, so they are not included in your final results
B23: S1 - Refrigerants
B24: 1 | C24: Choose the relevant calculation method from the "Calculation Method" drop-down.
B25: 2 | C25: Based on the calculation method selection, the appropriate table will appear to enter data for refrigerant use.
B26: 3 | C26: Enter all information in the Table, including the Year, Facility ID, type of refrigerant used and quantity.
B27: 4 | C27: Total GHG emissions for that activity will be calculated at the bottom of the table and will be available in the Results Summary Tab.
C28: Examples of calculations are provided throughout the tool. Please ensure that you remove these example calculations, so they are not included in your final results
B30: S2 - Purchased Electricity
B31: 1 | C31: Enter Facility ID and Year from the drop-downs.
B32: 2 | C32: Enter the amount of electricity/heat consumption and the units.
B33: 3 | C33: Choose the correct calculation approach. NOTE: Each approach has the option to select a Custom Emission Factor and the Grid Average Emission Factor. The Purchased Electricity - Market Based option has an additional option to select the Residual Mix emission factors. When “custom emission factor” is selected, the drop-downs are connect to the Custom Emission Factors table in the “Parameters” tab, so the custom emission factor must be entered in that table for it to show up.
B34: 4 | C34: It is important to select the Grid Region for the Facility in the "Parameters" Tab for the correct emission factor to show. If the selected region does not have an associated emission factor, the cell will remain blank.
B35: 5 | C35: Total GHG emissions for that activity will be calculated at the bottom of the table and will be available in the Results Summary Tab.
C36: Examples of calculations are provided throughout the tool. Please ensure that you remove these example calculations, so they are not included in your final results
B38: S3 - Transport
B39: 1 | C39: Enter the Year from the drop-down. The Description field is optional and can be added as well.
B40: 2 | C40: Choose Category and Emission Factor Dataset. NOTE: When “custom emission factor” is selected, the drop-downs are connect to the Custom Emission Factors table in the “Parameters” tab, so will have to enter the custom emission factor in that table for it to show up.
B41: 3 | C41: Select the relevant Mode of Transport, Activity Type and Vehicle Type
B42: 4 | C42: Enter the Activity Amount and Units. The Units will change depending on the Activity Type selected. NOTE: If emission values do not appear, change the Activity Type and units. Values do not calculate for all drop-downs due to unit conversions
B43: 5 | C43: Total GHG emissions for that activity will be calculated at the bottom of the table and will be available in the Results Summary Tab
C44: Examples of calculations are provided throughout the tool. Please ensure that you remove these example calculations, so they are not included in your final results

Sheet Parameters
C16: Name of Business
C17: Prepared By
C19: GWP dataset (IPCC assessment) | D19: Sexto Informe IPCC | E19: ● Use of the latest GWP values is recommended. Link to the GHGP accounting note on the use of alternative factor sets:
E20: https://ghgprotocol.org/sites/default/files/standards_supporting/Required%20gases%20and%20GWP%20values_0.pdf
C22: Uplift to Business Air Travel emissions using RF factors? | D22: No | E22: ● Radiative forcing (RF) is a measure of the additional environmental impact of aviation. These include emissions of nitrous oxides and water vapour when emitted at high altitude.
E23: ● Organisations should include the influence of radiative forcing RF in air travel emissions to capture the maximum climate impact of their travel habits. However, it should be noted that there is very significant scientific uncertainty around the magnitude of the additional environmental impacts of aviation. Further information on this uncertainty is provided in the accompanying 'Methodology paper'.
E24: ● Organisations should produce comparable reporting. Therefore, they should avoid reporting with uplifted air travel conversion factors in one year and without in another year as this may skew the interpretation of their reporting.
B28: Inventory Data
C30: Inventory Year | D30: Start Date | E30: End Date | F30: Exclusions | K30: Number of Days
K31: =H31-G31+1 -> 1
K32: =H32-G32+1 -> 1
K33: =H33-G33+1 -> 1
K34: =H34-G34+1 -> 1
K35: =H35-G35+1 -> 1
K36: =H36-G36+1 -> 1
B40: Facility Information
C42: Facility info | D42: Location (City) | E42: Location (Country) | F42: Facility ID | G42: Grid Region | I42: ● To locate the grid region for a facility in the US: US EPA, Power Profiler ZIP Code Tool with eGRID2016 Data. Version 9.0, March 9, 2020. File name: | W42: =ROW(O42) -> 42
F43: =ROW(I43)-ROW($J$42) -> 1
F44: =ROW(I44)-ROW($J$42) -> 2 | I44: power_profiler_zipcode_tool_2018_3_09_20._v9.xlsx
F45: =ROW(I45)-ROW($J$42) -> 3 | I45: https://epa.gov/sites/production/files/2020-03/power_profiler_zipcode_tool_2018_3_09_20._v9.xlsx
F46: =ROW(I46)-ROW($J$42) -> 4 | I46: ● For countries other than the United States, Canada or Australia, enter the country name under the Grid Region Column
F47: =ROW(I47)-ROW($J$42) -> 5
F48: =ROW(I48)-ROW($J$42) -> 6
F49: =ROW(I49)-ROW($J$42) -> 7 | I49: ● Default grid Region is EU. To select others, enter "USA" or "Canada" or "Australia". For all other regions, use custom emission factors.
F50: =ROW(I50)-ROW($J$42) -> 8
F51: =ROW(I51)-ROW($J$42) -> 9
F52: =ROW(I52)-ROW($J$42) -> 10 | I52: ● This tool allows for a maximum of 10 facilities. Facility ID can be changed based on the company's actual facility IDs
C57: Custom Emission Factors
C58: The tool uses default emission factors, which vary by country. These are free to use and publicly available, and the tool includes links of where to obtain them. Currently, separate sets of emission factors are available for the UK and US. Location-based Scope 2 emission factors are also available for the US, Canada and Australia, while market-based residual mix emission factors are available for the US, Canada and all European counties. For all other emission factors, links are provided from where they can be purchased from and then put in the table below.
C61: Custom Emission Factors
C63: Name of Custom EF | D63: Scope | E63: Activity Type | F63: Source of Emission Factor | G63: Emission Factors | N63: Notes
G64: Fossil CO2 | H64: CH4 | I64: N2O | J64: Biofuel CO2 | K64: CO2e | L64: Unit of Emission Factors (numerator unit) | M64: Unit of Emission Factors (denominator unit) | P64: Stationary Combustion | Q64: Mobile Combustion | R64: Refrigerants | S64: Heat | T64: Purchased Electricity - Market Based | U64: Purchased Electricity - Location Based | V64: Transportation | W64: =ROW(O64) -> 64
C65: Cosechadora (movil) | D65: Scope 1 | E65: Mobile Combustion | F65: Cosechadora (movil) | G65: 2.67 | K65: =IFERROR(IF(Parameters!$D$19="5th Assessment", (G65*Data!$AJ$5)+(H65*Data!$AJ$6)+(I65*Data!$AJ$7), (G65*Data!$AI$5)+(H65*Data!$AI$6)+(I65*Data!$AI$7)), "") -> 2.67 | L65: kg | M65: L | P65: {=IFERROR(INDEX(Custom_EF[[#All],[Column1]], SMALL(IF($P$64=Custom_EF[[#All],[Column3]], ROW(Custom_EF[[#All],[Column1]])-W64, ""), ROW()-W64)), "")} -> cinta transportadora (estacionaria) | Q65: {=IFERROR(INDEX(Custom_EF[[#All],[Column1]], SMALL(IF($Q$64=Custom_EF[[#All],[Column3]], ROW(Custom_EF[[#All],[Column1]])-W64, ""), ROW()-W64)), "")} -> Cosechadora (movil) | R65: {=IFERROR(INDEX(Custom_EF[[#All],[Column1]], SMALL(IF($R$64=Custom_EF[[#All],[Column3]], ROW(Custom_EF[[#All],[Column1]])-W64, ""), ROW()-W64)), "")} | S65: {=IFERROR(INDEX(Custom_EF[[#All],[Column1]], SMALL(IF($S$64=Custom_EF[[#All],[Column3]], ROW(Custom_EF[[#All],[Column1]])-W64, ""), ROW()-W64)), "")} | T65: {=IFERROR(INDEX(Custom_EF[[#All],[Column1]], SMALL(IF($T$64=Custom_EF[[#All],[Column3]], ROW(Custom_EF[[#All],[Column1]])-W64, ""), ROW()-W64)), "")} -> Motor electrico | U65: {=IFERROR(INDEX(Custom_EF[[#All],[Column1]], SMALL(IF($U$64=Custom_EF[[#All],[Column3]], ROW(Custom_EF[[#All],[Column1]])-W64, ""), ROW()-W64)), "")} | V65: {=IFERROR(INDEX(Custom_EF[[#All],[Column1]], SMALL(IF($V$64=Custom_EF[[#All],[Column3]], ROW(Custom_EF[[#All],[Column1]])-W64, ""), ROW()-W64)), "")} -> raspadora (movil)
C66: cinta transportadora (estacionaria) | D66: Scope 1 | E66: Stationary Combustion | F66: cinta transportadora (estacionaria) | G66: 2.73 | K66: =IFERROR(IF(Parameters!$D$19="5th Assessment", (G66*Data!$AJ$5)+(H66*Data!$AJ$6)+(I66*Data!$AJ$7), (G66*Data!$AI$5)+(H66*Data!$AI$6)+(I66*Data!$AI$7)), "") -> 2.73 | L66: kg | M66: L | P66: centrifugas (estacionarias) | Q66: camionetas (movil) | S66: {=IFERROR(INDEX(Custom_EF[[#All],[Column1]], SMALL(IF($S$64=Custom_EF[[#All],[Column3]], ROW(Custom_EF[[#All],[Column1]])-W64, ""), ROW()-W64)), "")} | T66: hidrociclon | V66: niveladora (movil)
C67: centrifugas (estacionarias) | D67: Scope 1 | E67: Stationary Combustion | F67: centrifugas (estacionarias) | G67: 2.42 | K67: =IFERROR(IF(Parameters!$D$19="5th Assessment", (G67*Data!$AJ$5)+(H67*Data!$AJ$6)+(I67*Data!$AJ$7), (G67*Data!$AI$5)+(H67*Data!$AI$6)+(I67*Data!$AI$7)), "") -> 2.42 | L67: kg | M67: L | Q67: camiones (movil) | S67: {=IFERROR(INDEX(Custom_EF[[#All],[Column1]], SMALL(IF($S$64=Custom_EF[[#All],[Column3]], ROW(Custom_EF[[#All],[Column1]])-W64, ""), ROW()-W64)), "")} | T67: horno electrico | V67: camiones (movil)
C68: camionetas (movil) | D68: Scope 1 | E68: Mobile Combustion | F68: camionetas (movil) | G68: 2.67 | K68: =IFERROR(IF(Parameters!$D$19="5th Assessment", (G68*Data!$AJ$5)+(H68*Data!$AJ$6)+(I68*Data!$AJ$7), (G68*Data!$AI$5)+(H68*Data!$AI$6)+(I68*Data!$AI$7)), "") -> 2.67 | L68: kg | M68: L | S68: {=IFERROR(INDEX(Custom_EF[[#All],[Column1]], SMALL(IF($S$64=Custom_EF[[#All],[Column3]], ROW(Custom_EF[[#All],[Column1]])-W64, ""), ROW()-W64)), "")} | V68: barco (movil)
C69: camiones (movil) | D69: Scope 1 | E69: Mobile Combustion | F69: camiones (movil) | G69: 2.67 | K69: =IFERROR(IF(Parameters!$D$19="5th Assessment", (G69*Data!$AJ$5)+(H69*Data!$AJ$6)+(I69*Data!$AJ$7), (G69*Data!$AI$5)+(H69*Data!$AI$6)+(I69*Data!$AI$7)), "") -> 2.67 | L69: kg | M69: L | S69: {=IFERROR(INDEX(Custom_EF[[#All],[Column1]], SMALL(IF($S$64=Custom_EF[[#All],[Column3]], ROW(Custom_EF[[#All],[Column1]])-W64, ""), ROW()-W64)), "")}
C70: residuos | D70: Scope 1 | F70: residuos | G70: 1.89 | K70: =IFERROR(IF(Parameters!$D$19="5th Assessment", (G70*Data!$AJ$5)+(H70*Data!$AJ$6)+(I70*Data!$AJ$7), (G70*Data!$AI$5)+(H70*Data!$AI$6)+(I70*Data!$AI$7)), "") -> 1.89 | L70: tonne | M70: Kg | S70: {=IFERROR(INDEX(Custom_EF[[#All],[Column1]], SMALL(IF($S$64=Custom_EF[[#All],[Column3]], ROW(Custom_EF[[#All],[Column1]])-W64, ""), ROW()-W64)), "")}
C71: Motor electrico | D71: Scope 2 | E71: Purchased Electricity - Market Based | F71: Motor electrico | G71: 0.4509 | K71: =IFERROR(IF(Parameters!$D$19="5th Assessment", (G71*Data!$AJ$5)+(H71*Data!$AJ$6)+(I71*Data!$AJ$7), (G71*Data!$AI$5)+(H71*Data!$AI$6)+(I71*Data!$AI$7)), "") -> 0.4509 | L71: kg | M71: Kwh | S71: {=IFERROR(INDEX(Custom_EF[[#All],[Column1]], SMALL(IF($S$64=Custom_EF[[#All],[Column3]], ROW(Custom_EF[[#All],[Column1]])-W64, ""), ROW()-W64)), "")}
C72: hidrociclon | D72: Scope 2 | E72: Purchased Electricity - Market Based | F72: hidrociclon | G72: 0.4509 | K72: =IFERROR(IF(Parameters!$D$19="5th Assessment", (G72*Data!$AJ$5)+(H72*Data!$AJ$6)+(I72*Data!$AJ$7), (G72*Data!$AI$5)+(H72*Data!$AI$6)+(I72*Data!$AI$7)), "") -> 0.4509 | L72: kg | M72: Kwh | S72: {=IFERROR(INDEX(Custom_EF[[#All],[Column1]], SMALL(IF($S$64=Custom_EF[[#All],[Column3]], ROW(Custom_EF[[#All],[Column1]])-W64, ""), ROW()-W64)), "")}
...

Sheet Emission Factors
B8: Stationary Combustion
H9: 7 | I9: 8 | J9: 9
B10: Fuel Type | C10: Heat Content (HHV) | D10: CO2 Factor (kg CO2 per mmBtu) | E10: CH4 Factor (g CH4 per mmBtu) | F10: N2O Factor (g N2O per mmBtu) | G10: Biogenic CO2 Factor (kg Biogenic CO2 per mmBtu) | H10: AR4 (kgCO2e) | I10: AR5 (kgCO2e) | J10: Units | K10: Source
B11: Coal and Coke | C11: mmBtu per short ton
B12: Anthracite Coal | C12: 25.09 | D12: 103.69 | E12: 11 | F12: 1.6 | H12: 104.4418 | I12: 104.422 | J12: mmBtu | K12: EPA, "Emission Factors for Greenhouse Gas Inventories," Table 1 Stationary Combustion Emission Factors, March 9, 2018 (https://www.epa.gov/climateleadership/center-corporate-climate-leadership-ghg-emission-factors-hub).
B13: Bituminous Coal | C13: 24.93 | D13: 93.28 | E13: 11 | F13: 1.6 | H13: 94.0318 | I13: 94.012 | J13: mmBtu | K13: EPA, "Emission Factors for Greenhouse Gas Inventories," Table 1 Stationary Combustion Emission Factors, March 9, 2018 (https://www.epa.gov/climateleadership/center-corporate-climate-leadership-ghg-emission-factors-hub).
B14: Sub-bituminous Coal | C14: 17.25 | D14: 97.17 | E14: 11 | F14: 1.6 | H14: 97.9218 | I14: 97.902 | J14: mmBtu | K14: EPA, "Emission Factors for Greenhouse Gas Inventories," Table 1 Stationary Combustion Emission Factors, March 9, 2018 (https://www.epa.gov/climateleadership/center-corporate-climate-leadership-ghg-emission-factors-hub).
B15: Lignite Coal | C15: 14.21 | D15: 97.72 | E15: 11 | F15: 1.6 | H15: 98.4718 | I15: 98.452 | J15: mmBtu | K15: EPA, "Emission Factors for Greenhouse Gas Inventories," Table 1 Stationary Combustion Emission Factors, March 9, 2018 (https://www.epa.gov/climateleadership/center-corporate-climate-leadership-ghg-emission-factors-hub).
B16: Mixed (Commercial Sector) | C16: 21.39 | D16: 94.27 | E16: 11 | F16: 1.6 | H16: 95.0218 | I16: 95.002 | J16: mmBtu | K16: EPA, "Emission Factors for Greenhouse Gas Inventories," Table 1 Stationary Combustion Emission Factors, March 9, 2018 (https://www.epa.gov/climateleadership/center-corporate-climate-leadership-ghg-emission-factors-hub).
B17: Mixed (Electric Power Sector) | C17: 19.73 | D17: 95.52 | E17: 11 | F17: 1.6 | H17: 96.2718 | I17: 96.252 | J17: mmBtu | K17: EPA, "Emission Factors for Greenhouse Gas Inventories," Table 1 Stationary Combustion Emission Factors, March 9, 2018 (https://www.epa.gov/climateleadership/center-corporate-climate-leadership-ghg-emission-factors-hub).
B18: Mixed (Industrial Coking) | C18: 26.28 | D18: 93.9 | E18: 11 | F18: 1.6 | H18: 94.6518 | I18: 94.632 | J18: mmBtu | K18: EPA, "Emission Factors for Greenhouse Gas Inventories," Table 1 Stationary Combustion Emission Factors, March 9, 2018 (https://www.epa.gov/climateleadership/center-corporate-climate-leadership-ghg-emission-factors-hub).
B19: Mixed (Industrial Sector) | C19: 22.35 | D19: 94.67 | E19: 11 | F19: 1.6 | H19: 95.4218 | I19: 95.402 | J19: mmBtu | K19: EPA, "Emission Factors for Greenhouse Gas Inventories," Table 1 Stationary Combustion Emission Factors, March 9, 2018 (https://www.epa.gov/climateleadership/center-corporate-climate-leadership-ghg-emission-factors-hub).
B20: Coal Coke | C20: 24.8 | D20: 113.67 | E20: 11 | F20: 1.6 | H20: 114.4218 | I20: 114.402 | J20: mmBtu | K20: EPA, "Emission Factors for Greenhouse Gas Inventories," Table 1 Stationary Combustion Emission Factors, March 9, 2018 (https://www.epa.gov/climateleadership/center-corporate-climate-leadership-ghg-emission-factors-hub).
B21: Other Fuels - Solid
B22: Municipal Solid Waste | C22: 9.95 | D22: 90.7 | E22: 32 | F22: 4.2 | H22: 92.7516 | I22: 92.709 | J22: mmBtu | K22: EPA, "Emission Factors for Greenhouse Gas Inventories," Table 1 Stationary Combustion Emission Factors, March 9, 2018 (https://www.epa.gov/climateleadership/center-corporate-climate-leadership-ghg-emission-factors-hub).
B23: Petroleum Coke (Solid) | C23: 30 | D23: 102.41 | E23: 32 | F23: 4.2 | H23: 104.4616 | I23: 104.419 | J23: mmBtu | K23: EPA, "Emission Factors for Greenhouse Gas Inventories," Table 1 Stationary Combustion Emission Factors, March 9, 2018 (https://www.epa.gov/climateleadership/center-corporate-climate-leadership-ghg-emission-factors-hub).
B24: Plastics | C24: 38 | D24: 75 | E24: 32 | F24: 4.2 | H24: 77.0516 | I24: 77.009 | J24: mmBtu | K24: EPA, "Emission Factors for Greenhouse Gas Inventories," Table 1 Stationary Combustion Emission Factors, March 9, 2018 (https://www.epa.gov/climateleadership/center-corporate-climate-leadership-ghg-emission-factors-hub).
B25: Tires | C25: 28 | D25: 85.97 | E25: 32 | F25: 4.2 | H25: 88.0216 | I25: 87.979 | J25: mmBtu | K25: EPA, "Emission Factors for Greenhouse Gas Inventories," Table 1 Stationary Combustion Emission Factors, March 9, 2018 (https://www.epa.gov/climateleadership/center-corporate-climate-leadership-ghg-emission-factors-hub).
B26: Biomass Fuels - Solid
B27: Agricultural Byproducts | C27: 8.25 | E27: 32 | F27: 4.2 | G27: 118.17 | H27: 120.2216 | I27: 120.179 | J27: mmBtu | K27: EPA, "Emission Factors for Greenhouse Gas Inventories," Table 1 Stationary Combustion Emission Factors, March 9, 2018 (https://www.epa.gov/climateleadership/center-corporate-climate-leadership-ghg-emission-factors-hub).
B28: Peat | C28: 8 | E28: 32 | F28: 4.2 | G28: 111.84 | H28: 113.8916 | I28: 113.849 | J28: mmBtu | K28: EPA, "Emission Factors for Greenhouse Gas Inventories," Table 1 Stationary Combustion Emission Factors, March 9, 2018 (https://www.epa.gov/climateleadership/center-corporate-climate-leadership-ghg-emission-factors-hub).
B29: Solid Byproducts | C29: 10.39 | E29: 32 | F29: 4.2 | G29: 105.51 | H29: 107.5616 | I29: 107.519 | J29: mmBtu | K29: EPA, "Emission Factors for Greenhouse Gas Inventories," Table 1 Stationary Combustion Emission Factors, March 9, 2018 (https://www.epa.gov/climateleadership/center-corporate-climate-leadership-ghg-emission-factors-hub).
B30: Wood and Wood Residuals | C30: 17.48 | E30: 7.2 | F30: 3.6 | G30: 93.8 | H30: 95.0528 | I30: 94.9556 | J30: mmBtu | K30: EPA, "Emission Factors for Greenhouse Gas Inventories," Table 1 Stationary Combustion Emission Factors, March 9, 2018 (https://www.epa.gov/climateleadership/center-corporate-climate-leadership-ghg-emission-factors-hub).
B31: Natural Gas - | C31: mmBtu per scf
B32: Natural Gas | C32: 0.001026 | D32: 53.06 | E32: 1 | F32: 0.1 | H32: 53.1148 | I32: 53.1145 | J32: mmBtu | K32: EPA, "Emission Factors for Greenhouse Gas Inventories," Table 1 Stationary Combustion Emission Factors, March 9, 2018 (https://www.epa.gov/climateleadership/center-corporate-climate-leadership-ghg-emission-factors-hub).
B33: Other Fuels - Gaseous
B34: Blast Furnace Gas | C34: 9.2e-05 | D34: 274.32 | E34: 0.022 | F34: 0.1 | H34: 274.35035 | I34: 274.34712 | J34: mmBtu | K34: EPA, "Emission Factors for Greenhouse Gas Inventories," Table 1 Stationary Combustion Emission Factors, March 9, 2018 (https://www.epa.gov/climateleadership/center-corporate-climate-leadership-ghg-emission-factors-hub).
B35: Coke Oven Gas | C35: 0.000599 | D35: 46.85 | E35: 0.48 | F35: 0.1 | H35: 46.8918 | I35: 46.88994 | J35: mmBtu | K35: EPA, "Emission Factors for Greenhouse Gas Inventories," Table 1 Stationary Combustion Emission Factors, March 9, 2018 (https://www.epa.gov/climateleadership/center-corporate-climate-leadership-ghg-emission-factors-hub).
B36: Fuel Gas | C36: 0.001388 | D36: 59 | E36: 3 | F36: 0.6 | H36: 59.2538 | I36: 59.243 | J36: mmBtu | K36: EPA, "Emission Factors for Greenhouse Gas Inventories," Table 1 Stationary Combustion Emission Factors, March 9, 2018 (https://www.epa.gov/climateleadership/center-corporate-climate-leadership-ghg-emission-factors-hub).
B37: Propane Gas | C37: 0.002516 | D37: 61.46 | E37: 3 | F37: 0.6 | H37: 61.7138 | I37: 61.703 | J37: mmBtu | K37: EPA, "Emission Factors for Greenhouse Gas Inventories," Table 1 Stationary Combustion Emission Factors, March 9, 2018 (https://www.epa.gov/climateleadership/center-corporate-climate-leadership-ghg-emission-factors-hub).
B38: Biomass Fuels - Gaseous
B39: Landfill Gas | C39: 0.000485 | E39: 3.2 | F39: 0.63 | G39: 52.07 | H39: 52.33774 | I39: 52.32655 | J39: mmBtu | K39: EPA, "Emission Factors for Greenhouse Gas Inventories," Table 1 Stationary Combustion Emission Factors, March 9, 2018 (https://www.epa.gov/climateleadership/center-corporate-climate-leadership-ghg-emission-factors-hub).
B40: Other Biomass Gases | C40: 0.000655 | E40: 3.2 | F40: 0.63 | G40: 52.07 | H40: 52.33774 | I40: 52.32655 | J40: mmBtu | K40: EPA, "Emission Factors for Greenhouse Gas Inventories," Table 1 Stationary Combustion Emission Factors, March 9, 2018 (https://www.epa.gov/climateleadership/center-corporate-climate-leadership-ghg-emission-factors-hub).
B41: Petroleum Products | C41: mmBtu per gallon
B42: Asphalt and Road Oil | C42: 0.158 | D42: 75.36 | E42: 3 | F42: 0.6 | H42: 75.6138 | I42: 75.603 | J42: mmBtu | K42: EPA, "Emission Factors for Greenhouse Gas Inventories," Table 1 Stationary Combustion Emission Factors, March 9, 2018 (https://www.epa.gov/climateleadership/center-corporate-climate-leadership-ghg-emission-factors-hub).
B43: Aviation Gasoline | C43: 0.12 | D43: 69.25 | E43: 3 | F43: 0.6 | H43: 69.5038 | I43: 69.493 | J43: mmBtu | K43: EPA, "Emission Factors for Greenhouse Gas Inventories," Table 1 Stationary Combustion Emission Factors, March 9, 2018 (https://www.epa.gov/climateleadership/center-corporate-climate-leadership-ghg-emission-factors-hub).
B44: Butane | C44: 0.103 | D44: 64.77 | E44: 3 | F44: 0.6 | H44: 65.0238 | I44: 65.013 | J44: mmBtu | K44: EPA, "Emission Factors for Greenhouse Gas Inventories," Table 1 Stationary Combustion Emission Factors, March 9, 2018 (https://www.epa.gov/climateleadership/center-corporate-climate-leadership-ghg-emission-factors-hub).
B45: Butylene | C45: 0.105 | D45: 68.72 | E45: 3 | F45: 0.6 | H45: 68.9738 | I45: 68.963 | J45: mmBtu | K45: EPA, "Emission Factors for Greenhouse Gas Inventories," Table 1 Stationary Combustion Emission Factors, March 9, 2018 (https://www.epa.gov/climateleadership/center-corporate-climate-leadership-ghg-emission-factors-hub).
B46: Crude Oil | C46: 0.138 | D46: 74.54 | E46: 3 | F46: 0.6 | H46: 74.7938 | I46: 74.783 | J46: mmBtu | K46: EPA, "Emission Factors for Greenhouse Gas Inventories," Table 1 Stationary Combustion Emission Factors, March 9, 2018 (https://www.epa.gov/climateleadership/center-corporate-climate-leadership-ghg-emission-factors-hub).
B47: Distillate Fuel Oil No. 1 | C47: 0.139 | D47: 73.25 | E47: 3 | F47: 0.6 | H47: 73.5038 | I47: 73.493 | J47: mmBtu | K47: EPA, "Emission Factors for Greenhouse Gas Inventories," Table 1 Stationary Combustion Emission Factors, March 9, 2018 (https://www.epa.gov/climateleadership/center-corporate-climate-leadership-ghg-emission-factors-hub).
...

Sheet S1-Stationary Combustion
B8: S1 - Stationary Combustion
C11: Includes fuel consumption at a facility to produce electricity, steam, heat, or power. The combustion of fossil fuels by natural gas boilers, diesel generators and other equipment emits carbon dioxide, methane, and nitrous oxide into the atmosphere.
C14: Data required: 1. Fuel type 2. Fuel Usage 3. Units for usage (volume or weight)
C16: Emissions GHG, fuel = Fuel Consumption fuel * Emission Factor GHG, fuel
C20: User supplied data | I20: GHG Emissions (tonnes CO2e) | N20: Emission Factor
C21: Facility ID | D21: Year | E21: Custom Emission Factors? | F21: Fuel | G21: Amount of fuel | H21: Units (e.g., kg or kWh) | I21: CO2 (tonnes) | J21: CH4 (tonnes) | K21: N2O (tonnes) | L21: CO2e (tonnes) | M21: Biofuel CO2 (tonnes) | N21: EF (kgCO2e/unit) | O21: Source
C22: 1 | E22: Yes | F22: cinta transportadora (estacionaria) | G22: 5 | H22: L | I22: =IF(Stationary_Combustion[[#This Row],[Custom Emission Factors?]]="No", _xlfn.IFNA((VLOOKUP(Stationary_Combustion[[#This Row],[Fuel]], EF_Stationary_Combustion[], 3, FALSE)/IF(VLOOKUP(Stationary_Combustion[[#This Row],[Fuel]], EF_Stationary_Combustion[], 9,FALSE) ='S1-Stationary Combustion'!H22, 1, VLOOKUP(VLOOKUP(Stationary_Combustion[[#This Row],[Fuel]], EF_Stationary_Combustion[], 9,FALSE)&"_to_"&'S1-Stationary Combustion'!H22, Conversions!$B$52:$F$162, Conversions!$E$52, FALSE))*Stationary_Combustion[[#This Row],[Amount of fuel]]/1000), ""), _xlfn.IFNA((VLOOKUP(Stationary_Combustion[[#This Row],[Fuel]], Custom_EF[], 5, FALSE)*IF(VLOOKUP(Stationary_Combustion[[#This Row],[Fuel]], Custom_EF[], 10, FALSE)="kg", 1, IF(VLOOKUP(Stationary_Combustion[[#This Row],[Fuel]], Custom_EF[], 10, FALSE)="g", 0.001, IF(VLOOKUP(Stationary_Combustion[[#This Row],[Fuel]], Custom_EF[], 10, FALSE)="tonne", 1000)))/IF(VLOOKUP(Stationary_Combustion[[#This Row],[Fuel]], Custom_EF[], 11,FALSE) ='S1-Stationary Combustion'!H22, 1, VLOOKUP(VLOOKUP(Stationary_Combustion[[#This Row],[Fuel]], Custom_EF[], 11,FALSE)&"_to_"&'S1-Stationary Combustion'!H22, Conversions!$B$52:$F$162, Conversions!$E$52, FALSE))*Stationary_Combustion[[#This Row],[Amount of fuel]]/1000), "")) -> 0.01365 | J22: =IF(Stationary_Combustion[[#This Row],[Custom Emission Factors?]]="No", _xlfn.IFNA((VLOOKUP(Stationary_Combustion[[#This Row],[Fuel]], EF_Stationary_Combustion[], 4, FALSE)/IF(VLOOKUP(Stationary_Combustion[[#This Row],[Fuel]], EF_Stationary_Combustion[], 9,FALSE) ='S1-Stationary Combustion'!H22, 1, VLOOKUP(VLOOKUP(Stationary_Combustion[[#This Row],[Fuel]], EF_Stationary_Combustion[], 9,FALSE)&"_to_"&'S1-Stationary Combustion'!H22, Conversions!$B$52:$F$162, Conversions!$E$52, FALSE))*Stationary_Combustion[[#This Row],[Amount of fuel]]/1000000), ""), _xlfn.IFNA((VLOOKUP(Stationary_Combustion[[#This Row],[Fuel]], Custom_EF[], 6, FALSE)*IF(VLOOKUP(Stationary_Combustion[[#This Row],[Fuel]], Custom_EF[], 10, FALSE)="kg", 1, IF(VLOOKUP(Stationary_Combustion[[#This Row],[Fuel]], Custom_EF[], 10, FALSE)="g", 0.001, IF(VLOOKUP(Stationary_Combustion[[#This Row],[Fuel]], Custom_EF[], 10, FALSE)="tonne", 1000)))/IF(VLOOKUP(Stationary_Combustion[[#This Row],[Fuel]], Custom_EF[], 11,FALSE) ='S1-Stationary Combustion'!H22, 1, VLOOKUP(VLOOKUP(Stationary_Combustion[[#This Row],[Fuel]], Custom_EF[], 11,FALSE)&"_to_"&'S1-Stationary Combustion'!H22, Conversions!$B$52:$F$162, Conversions!$E$52, FALSE))*Stationary_Combustion[[#This Row],[Amount of fuel]]/1000), "")) -> 0 | K22: =IF(Stationary_Combustion[[#This Row],[Custom Emission Factors?]]="No", _xlfn.IFNA((VLOOKUP(Stationary_Combustion[[#This Row],[Fuel]], EF_Stationary_Combustion[], 5, FALSE)/IF(VLOOKUP(Stationary_Combustion[[#This Row],[Fuel]], EF_Stationary_Combustion[], 9,FALSE) ='S1-Stationary Combustion'!H22, 1, VLOOKUP(VLOOKUP(Stationary_Combustion[[#This Row],[Fuel]], EF_Stationary_Combustion[], 9,FALSE)&"_to_"&'S1-Stationary Combustion'!H22, Conversions!$B$52:$F$162, Conversions!$E$52, FALSE))*Stationary_Combustion[[#This Row],[Amount of fuel]]/1000000), ""), _xlfn.IFNA((VLOOKUP(Stationary_Combustion[[#This Row],[Fuel]], Custom_EF[], 7, FALSE)*IF(VLOOKUP(Stationary_Combustion[[#This Row],[Fuel]], Custom_EF[], 10, FALSE)="kg", 1, IF(VLOOKUP(Stationary_Combustion[[#This Row],[Fuel]], Custom_EF[], 10, FALSE)="g", 0.001, IF(VLOOKUP(Stationary_Combustion[[#This Row],[Fuel]], Custom_EF[], 10, FALSE)="tonne", 1000)))/IF(VLOOKUP(Stationary_Combustion[[#This Row],[Fuel]], Custom_EF[], 11,FALSE) ='S1-Stationary Combustion'!H22, 1, VLOOKUP(VLOOKUP(Stationary_Combustion[[#This Row],[Fuel]], Custom_EF[], 11,FALSE)&"_to_"&'S1-Stationary Combustion'!H22, Conversions!$B$52:$F$162, Conversions!$E$52, FALSE))*Stationary_Combustion[[#This Row],[Amount of fuel]]/1000), "")) -> 0 | L22: =IFERROR(IF(Parameters!$D$19="2014 IPCC Fifth Assessment", (I22*Data!$AJ$5)+(J22*Data!$AJ$6)+(K22*Data!$AJ$7), (I22*Data!$AI$5)+(J22*Data!$AI$6)+(K22*Data!$AI$7)), "") -> 0.01365 | M22: =IF(Stationary_Combustion[[#This Row],[Custom Emission Factors?]]="No", _xlfn.IFNA((VLOOKUP(Stationary_Combustion[[#This Row],[Fuel]], EF_Stationary_Combustion[], 6, FALSE)/IF(VLOOKUP(Stationary_Combustion[[#This Row],[Fuel]], EF_Stationary_Combustion[], 9,FALSE) ='S1-Stationary Combustion'!H22, 1, VLOOKUP(VLOOKUP(Stationary_Combustion[[#This Row],[Fuel]], EF_Stationary_Combustion[], 9,FALSE)&"_to_"&'S1-Stationary Combustion'!H22, Conversions!$B$52:$F$162, Conversions!$E$52, FALSE))*Stationary_Combustion[[#This Row],[Amount of fuel]]/1000), ""), _xlfn.IFNA((VLOOKUP(Stationary_Combustion[[#This Row],[Fuel]], Custom_EF[], 8, FALSE)*IF(VLOOKUP(Stationary_Combustion[[#This Row],[Fuel]], Custom_EF[], 10, FALSE)="kg", 1, IF(VLOOKUP(Stationary_Combustion[[#This Row],[Fuel]], Custom_EF[], 10, FALSE)="g", 0.001, IF(VLOOKUP(Stationary_Combustion[[#This Row],[Fuel]], Custom_EF[], 10, FALSE)="tonne", 1000)))/IF(VLOOKUP(Stationary_Combustion[[#This Row],[Fuel]], Custom_EF[], 10,FALSE) ='S1-Stationary Combustion'!H22, 1, VLOOKUP(VLOOKUP(Stationary_Combustion[[#This Row],[Fuel]], Custom_EF[], 10,FALSE)&"_to_"&'S1-Stationary Combustion'!H22, Conversions!$B$52:$F$162, Conversions!$E$52, FALSE))*Stationary_Combustion[[#This Row],[Amount of fuel]]/1000), "")) | N22: =IF(Stationary_Combustion[[#This Row],[Custom Emission Factors?]]="No", _xlfn.IFNA(VLOOKUP(F22, EF_Stationary_Combustion[], IF(Parameters!$D$19="2014 IPCC Fifth Assessment", 'Emission Factors'!$I$9, 'Emission Factors'!$H$9), FALSE), ""), _xlfn.IFNA(VLOOKUP(Stationary_Combustion[[#This Row],[Fuel]], Custom_EF[], 9, FALSE), "")) -> 2.73 | O22: =IF(Stationary_Combustion[[#This Row],[EF (kgCO2e/unit)]]="", "", IF(Stationary_Combustion[[#This Row],[Custom Emission Factors?]]="Yes", VLOOKUP(Stationary_Combustion[[#This Row],[Fuel]], Custom_EF[], 4, FALSE), VLOOKUP(Stationary_Combustion[[#This Row],[Fuel]], EF_Stationary_Combustion[#All], 10, FALSE))) -> cinta transportadora (estacionaria)
I23: =IF(Stationary_Combustion[[#This Row],[Custom Emission Factors?]]="No", _xlfn.IFNA((VLOOKUP(Stationary_Combustion[[#This Row],[Fuel]], EF_Stationary_Combustion[], 3, FALSE)/IF(VLOOKUP(Stationary_Combustion[[#This Row],[Fuel]], EF_Stationary_Combustion[], 9,FALSE) ='S1-Stationary Combustion'!H23, 1, VLOOKUP(VLOOKUP(Stationary_Combustion[[#This Row],[Fuel]], EF_Stationary_Combustion[], 9,FALSE)&"_to_"&'S1-Stationary Combustion'!H23, Conversions!$B$52:$F$162, Conversions!$E$52, FALSE))*Stationary_Combustion[[#This Row],[Amount of fuel]]/1000), ""), _xlfn.IFNA((VLOOKUP(Stationary_Combustion[[#This Row],[Fuel]], Custom_EF[], 5, FALSE)*IF(VLOOKUP(Stationary_Combustion[[#This Row],[Fuel]], Custom_EF[], 10, FALSE)="kg", 1, IF(VLOOKUP(Stationary_Combustion[[#This Row],[Fuel]], Custom_EF[], 10, FALSE)="g", 0.001, IF(VLOOKUP(Stationary_Combustion[[#This Row],[Fuel]], Custom_EF[], 10, FALSE)="tonne", 1000)))/IF(VLOOKUP(Stationary_Combustion[[#This Row],[Fuel]], Custom_EF[], 11,FALSE) ='S1-Stationary Combustion'!H23, 1, VLOOKUP(VLOOKUP(Stationary_Combustion[[#This Row],[Fuel]], Custom_EF[], 11,FALSE)&"_to_"&'S1-Stationary Combustion'!H23, Conversions!$B$52:$F$162, Conversions!$E$52, FALSE))*Stationary_Combustion[[#This Row],[Amount of fuel]]/1000), "")) | J23: =IF(Stationary_Combustion[[#This Row],[Custom Emission Factors?]]="No", _xlfn.IFNA((VLOOKUP(Stationary_Combustion[[#This Row],[Fuel]], EF_Stationary_Combustion[], 4, FALSE)/IF(VLOOKUP(Stationary_Combustion[[#This Row],[Fuel]], EF_Stationary_Combustion[], 9,FALSE) ='S1-Stationary Combustion'!H23, 1, VLOOKUP(VLOOKUP(Stationary_Combustion[[#This Row],[Fuel]], EF_Stationary_Combustion[], 9,FALSE)&"_to_"&'S1-Stationary Combustion'!H23, Conversions!$B$52:$F$162, Conversions!$E$52, FALSE))*Stationary_Combustion[[#This Row],[Amount of fuel]]/1000000), ""), _xlfn.IFNA((VLOOKUP(Stationary_Combustion[[#This Row],[Fuel]], Custom_EF[], 6, FALSE)*IF(VLOOKUP(Stationary_Combustion[[#This Row],[Fuel]], Custom_EF[], 10, FALSE)="kg", 1, IF(VLOOKUP(Stationary_Combustion[[#This Row],[Fuel]], Custom_EF[], 10, FALSE)="g", 0.001, IF(VLOOKUP(Stationary_Combustion[[#This Row],[Fuel]], Custom_EF[], 10, FALSE)="tonne", 1000)))/IF(VLOOKUP(Stationary_Combustion[[#This Row],[Fuel]], Custom_EF[], 11,FALSE) ='S1-Stationary Combustion'!H23, 1, VLOOKUP(VLOOKUP(Stationary_Combustion[[#This Row],[Fuel]], Custom_EF[], 11,FALSE)&"_to_"&'S1-Stationary Combustion'!H23, Conversions!$B$52:$F$162, Conversions!$E$52, FALSE))*Stationary_Combustion[[#This Row],[Amount of fuel]]/1000), "")) | K23: =IF(Stationary_Combustion[[#This Row],[Custom Emission Factors?]]="No", _xlfn.IFNA((VLOOKUP(Stationary_Combustion[[#This Row],[Fuel]], EF_Stationary_Combustion[], 5, FALSE)/IF(VLOOKUP(Stationary_Combustion[[#This Row],[Fuel]], EF_Stationary_Combustion[], 9,FALSE) ='S1-Stationary Combustion'!H23, 1, VLOOKUP(VLOOKUP(Stationary_Combustion[[#This Row],[Fuel]], EF_Stationary_Combustion[], 9,FALSE)&"_to_"&'S1-Stationary Combustion'!H23, Conversions!$B$52:$F$162, Conversions!$E$52, FALSE))*Stationary_Combustion[[#This Row],[Amount of fuel]]/1000000), ""), _xlfn.IFNA((VLOOKUP(Stationary_Combustion[[#This Row],[Fuel]], Custom_EF[], 7, FALSE)*IF(VLOOKUP(Stationary_Combustion[[#This Row],[Fuel]], Custom_EF[], 10, FALSE)="kg", 1, IF(VLOOKUP(Stationary_Combustion[[#This Row],[Fuel]], Custom_EF[], 10, FALSE)="g", 0.001, IF(VLOOKUP(Stationary_Combustion[[#This Row],[Fuel]], Custom_EF[], 10, FALSE)="tonne", 1000)))/IF(VLOOKUP(Stationary_Combustion[[#This Row],[Fuel]], Custom_EF[], 11,FALSE) ='S1-Stationary Combustion'!H23, 1, VLOOKUP(VLOOKUP(Stationary_Combustion[[#This Row],[Fuel]], Custom_EF[], 11,FALSE)&"_to_"&'S1-Stationary Combustion'!H23, Conversions!$B$52:$F$162, Conversions!$E$52, FALSE))*Stationary_Combustion[[#This Row],[Amount of fuel]]/1000), "")) | L23: =IFERROR(IF(Parameters!$D$19="2014 IPCC Fifth Assessment", (I23*Data!$AJ$5)+(J23*Data!$AJ$6)+(K23*Data!$AJ$7), (I23*Data!$AI$5)+(J23*Data!$AI$6)+(K23*Data!$AI$7)), "") | M23: =IF(Stationary_Combustion[[#This Row],[Custom Emission Factors?]]="No", _xlfn.IFNA((VLOOKUP(Stationary_Combustion[[#This Row],[Fuel]], EF_Stationary_Combustion[], 6, FALSE)/IF(VLOOKUP(Stationary_Combustion[[#This Row],[Fuel]], EF_Stationary_Combustion[], 9,FALSE) ='S1-Stationary Combustion'!H23, 1, VLOOKUP(VLOOKUP(Stationary_Combustion[[#This Row],[Fuel]], EF_Stationary_Combustion[], 9,FALSE)&"_to_"&'S1-Stationary Combustion'!H23, Conversions!$B$52:$F$162, Conversions!$E$52, FALSE))*Stationary_Combustion[[#This Row],[Amount of fuel]]/1000), ""), _xlfn.IFNA((VLOOKUP(Stationary_Combustion[[#This Row],[Fuel]], Custom_EF[], 8, FALSE)*IF(VLOOKUP(Stationary_Combustion[[#This Row],[Fuel]], Custom_EF[], 10, FALSE)="kg", 1, IF(VLOOKUP(Stationary_Combustion[[#This Row],[Fuel]], Custom_EF[], 10, FALSE)="g", 0.001, IF(VLOOKUP(Stationary_Combustion[[#This Row],[Fuel]], Custom_EF[], 10, FALSE)="tonne", 1000)))/IF(VLOOKUP(Stationary_Combustion[[#This Row],[Fuel]], Custom_EF[], 10,FALSE) ='S1-Stationary Combustion'!H23, 1, VLOOKUP(VLOOKUP(Stationary_Combustion[[#This Row],[Fuel]], Custom_EF[], 10,FALSE)&"_to_"&'S1-Stationary Combustion'!H23, Conversions!$B$52:$F$162, Conversions!$E$52, FALSE))*Stationary_Combustion[[#This Row],[Amount of fuel]]/1000), "")) | N23: =IF(Stationary_Combustion[[#This Row],[Custom Emission Factors?]]="No", _xlfn.IFNA(VLOOKUP(F23, EF_Stationary_Combustion[], IF(Parameters!$D$19="2014 IPCC Fifth Assessment", 'Emission Factors'!$I$9, 'Emission Factors'!$H$9), FALSE), ""), _xlfn.IFNA(VLOOKUP(Stationary_Combustion[[#This Row],[Fuel]], Custom_EF[], 9, FALSE), "")) | O23: =IF(Stationary_Combustion[[#This Row],[EF (kgCO2e/unit)]]="", "", IF(Stationary_Combustion[[#This Row],[Custom Emission Factors?]]="Yes", VLOOKUP(Stationary_Combustion[[#This Row],[Fuel]], Custom_EF[], 4, FALSE), VLOOKUP(Stationary_Combustion[[#This Row],[Fuel]], EF_Stationary_Combustion[#All], 10, FALSE)))
I24: =IF(Stationary_Combustion[[#This Row],[Custom Emission Factors?]]="No", _xlfn.IFNA((VLOOKUP(Stationary_Combustion[[#This Row],[Fuel]], EF_Stationary_Combustion[], 3, FALSE)/IF(VLOOKUP(Stationary_Combustion[[#This Row],[Fuel]], EF_Stationary_Combustion[], 9,FALSE) ='S1-Stationary Combustion'!H24, 1, VLOOKUP(VLOOKUP(Stationary_Combustion[[#This Row],[Fuel]], EF_Stationary_Combustion[], 9,FALSE)&"_to_"&'S1-Stationary Combustion'!H24, Conversions!$B$52:$F$162, Conversions!$E$52, FALSE))*Stationary_Combustion[[#This Row],[Amount of fuel]]/1000), ""), _xlfn.IFNA((VLOOKUP(Stationary_Combustion[[#This Row],[Fuel]], Custom_EF[], 5, FALSE)*IF(VLOOKUP(Stationary_Combustion[[#This Row],[Fuel]], Custom_EF[], 10, FALSE)="kg", 1, IF(VLOOKUP(Stationary_Combustion[[#This Row],[Fuel]], Custom_EF[], 10, FALSE)="g", 0.001, IF(VLOOKUP(Stationary_Combustion[[#This Row],[Fuel]], Custom_EF[], 10, FALSE)="tonne", 1000)))/IF(VLOOKUP(Stationary_Combustion[[#This Row],[Fuel]], Custom_EF[], 11,FALSE) ='S1-Stationary Combustion'!H24, 1, VLOOKUP(VLOOKUP(Stationary_Combustion[[#This Row],[Fuel]], Custom_EF[], 11,FALSE)&"_to_"&'S1-Stationary Combustion'!H24, Conversions!$B$52:$F$162, Conversions!$E$52, FALSE))*Stationary_Combustion[[#This Row],[Amount of fuel]]/1000), "")) | J24: =IF(Stationary_Combustion[[#This Row],[Custom Emission Factors?]]="No", _xlfn.IFNA((VLOOKUP(Stationary_Combustion[[#This Row],[Fuel]], EF_Stationary_Combustion[], 4, FALSE)/IF(VLOOKUP(Stationary_Combustion[[#This Row],[Fuel]], EF_Stationary_Combustion[], 9,FALSE) ='S1-Stationary Combustion'!H24, 1, VLOOKUP(VLOOKUP(Stationary_Combustion[[#This Row],[Fuel]], EF_Stationary_Combustion[], 9,FALSE)&"_to_"&'S1-Stationary Combustion'!H24, Conversions!$B$52:$F$162, Conversions!$E$52, FALSE))*Stationary_Combustion[[#This Row],[Amount of fuel]]/1000000), ""), _xlfn.IFNA((VLOOKUP(Stationary_Combustion[[#This Row],[Fuel]], Custom_EF[], 6, FALSE)*IF(VLOOKUP(Stationary_Combustion[[#This Row],[Fuel]], Custom_EF[], 10, FALSE)="kg", 1, IF(VLOOKUP(Stationary_Combustion[[#This Row],[Fuel]], Custom_EF[], 10, FALSE)="g", 0.001, IF(VLOOKUP(Stationary_Combustion[[#This Row],[Fuel]], Custom_EF[], 10, FALSE)="tonne", 1000)))/IF(VLOOKUP(Stationary_Combustion[[#This Row],[Fuel]], Custom_EF[], 11,FALSE) ='S1-Stationary Combustion'!H24, 1, VLOOKUP(VLOOKUP(Stationary_Combustion[[#This Row],[Fuel]], Custom_EF[], 11,FALSE)&"_to_"&'S1-Stationary Combustion'!H24, Conversions!$B$52:$F$162, Conversions!$E$52, FALSE))*Stationary_Combustion[[#This Row],[Amount of fuel]]/1000), "")) | K24: =IF(Stationary_Combustion[[#This Row],[Custom Emission Factors?]]="No", _xlfn.IFNA((VLOOKUP(Stationary_Combustion[[#This Row],[Fuel]], EF_Stationary_Combustion[], 5, FALSE)/IF(VLOOKUP(Stationary_Combustion[[#This Row],[Fuel]], EF_Stationary_Combustion[], 9,FALSE) ='S1-Stationary Combustion'!H24, 1, VLOOKUP(VLOOKUP(Stationary_Combustion[[#This Row],[Fuel]], EF_Stationary_Combustion[], 9,FALSE)&"_to_"&'S1-Stationary Combustion'!H24, Conversions!$B$52:$F$162, Conversions!$E$52, FALSE))*Stationary_Combustion[[#This Row],[Amount of fuel]]/1000000), ""), _xlfn.IFNA((VLOOKUP(Stationary_Combustion[[#This Row],[Fuel]], Custom_EF[], 7, FALSE)*IF(VLOOKUP(Stationary_Combustion[[#This Row],[Fuel]], Custom_EF[], 10, FALSE)="kg", 1, IF(VLOOKUP(Stationary_Combustion[[#This Row],[Fuel]], Custom_EF[], 10, FALSE)="g", 0.001, IF(VLOOKUP(Stationary_Combustion[[#This Row],[Fuel]], Custom_EF[], 10, FALSE)="tonne", 1000)))/IF(VLOOKUP(Stationary_Combustion[[#This Row],[Fuel]], Custom_EF[], 11,FALSE) ='S1-Stationary Combustion'!H24, 1, VLOOKUP(VLOOKUP(Stationary_Combustion[[#This Row],[Fuel]], Custom_EF[], 11,FALSE)&"_to_"&'S1-Stationary Combustion'!H24, Conversions!$B$52:$F$162, Conversions!$E$52, FALSE))*Stationary_Combustion[[#This Row],[Amount of fuel]]/1000), "")) | L24: =IFERROR(IF(Parameters!$D$19="2014 IPCC Fifth Assessment", (I24*Data!$AJ$5)+(J24*Data!$AJ$6)+(K24*Data!$AJ$7), (I24*Data!$AI$5)+(J24*Data!$AI$6)+(K24*Data!$AI$7)), "") | M24: =IF(Stationary_Combustion[[#This Row],[Custom Emission Factors?]]="No", _xlfn.IFNA((VLOOKUP(Stationary_Combustion[[#This Row],[Fuel]], EF_Stationary_Combustion[], 6, FALSE)/IF(VLOOKUP(Stationary_Combustion[[#This Row],[Fuel]], EF_Stationary_Combustion[], 9,FALSE) ='S1-Stationary Combustion'!H24, 1, VLOOKUP(VLOOKUP(Stationary_Combustion[[#This Row],[Fuel]], EF_Stationary_Combustion[], 9,FALSE)&"_to_"&'S1-Stationary Combustion'!H24, Conversions!$B$52:$F$162, Conversions!$E$52, FALSE))*Stationary_Combustion[[#This Row],[Amount of fuel]]/1000), ""), _xlfn.IFNA((VLOOKUP(Stationary_Combustion[[#This Row],[Fuel]], Custom_EF[], 8, FALSE)*IF(VLOOKUP(Stationary_Combustion[[#This Row],[Fuel]], Custom_EF[], 10, FALSE)="kg", 1, IF(VLOOKUP(Stationary_Combustion[[#This Row],[Fuel]], Custom_EF[], 10, FALSE)="g", 0.001, IF(VLOOKUP(Stationary_Combustion[[#This Row],[Fuel]], Custom_EF[], 10, FALSE)="tonne", 1000)))/IF(VLOOKUP(Stationary_Combustion[[#This Row],[Fuel]], Custom_EF[], 10,FALSE) ='S1-Stationary Combustion'!H24, 1, VLOOKUP(VLOOKUP(Stationary_Combustion[[#This Row],[Fuel]], Custom_EF[], 10,FALSE)&"_to_"&'S1-Stationary Combustion'!H24, Conversions!$B$52:$F$162, Conversions!$E$52, FALSE))*Stationary_Combustion[[#This Row],[Amount of fuel]]/1000), "")) | N24: =IF(Stationary_Combustion[[#This Row],[Custom Emission Factors?]]="No", _xlfn.IFNA(VLOOKUP(F24, EF_Stationary_Combustion[], IF(Parameters!$D$19="2014 IPCC Fifth Assessment", 'Emission Factors'!$I$9, 'Emission Factors'!$H$9), FALSE), ""), _xlfn.IFNA(VLOOKUP(Stationary_Combustion[[#This Row],[Fuel]], Custom_EF[], 9, FALSE), "")) | O24: =IF(Stationary_Combustion[[#This Row],[EF (kgCO2e/unit)]]="", "", IF(Stationary_Combustion[[#This Row],[Custom Emission Factors?]]="Yes", VLOOKUP(Stationary_Combustion[[#This Row],[Fuel]], Custom_EF[], 4, FALSE), VLOOKUP(Stationary_Combustion[[#This Row],[Fuel]], EF_Stationary_Combustion[#All], 10, FALSE)))
I25: =IF(Stationary_Combustion[[#This Row],[Custom Emission Factors?]]="No", _xlfn.IFNA((VLOOKUP(Stationary_Combustion[[#This Row],[Fuel]], EF_Stationary_Combustion[], 3, FALSE)/IF(VLOOKUP(Stationary_Combustion[[#This Row],[Fuel]], EF_Stationary_Combustion[], 9,FALSE) ='S1-Stationary Combustion'!H25, 1, VLOOKUP(VLOOKUP(Stationary_Combustion[[#This Row],[Fuel]], EF_Stationary_Combustion[], 9,FALSE)&"_to_"&'S1-Stationary Combustion'!H25, Conversions!$B$52:$F$162, Conversions!$E$52, FALSE))*Stationary_Combustion[[#This Row],[Amount of fuel]]/1000), ""), _xlfn.IFNA((VLOOKUP(Stationary_Combustion[[#This Row],[Fuel]], Custom_EF[], 5, FALSE)*IF(VLOOKUP(Stationary_Combustion[[#This Row],[Fuel]], Custom_EF[], 10, FALSE)="kg", 1, IF(VLOOKUP(Stationary_Combustion[[#This Row],[Fuel]], Custom_EF[], 10, FALSE)="g", 0.001, IF(VLOOKUP(Stationary_Combustion[[#This Row],[Fuel]], Custom_EF[], 10, FALSE)="tonne", 1000)))/IF(VLOOKUP(Stationary_Combustion[[#This Row],[Fuel]], Custom_EF[], 11,FALSE) ='S1-Stationary Combustion'!H25, 1, VLOOKUP(VLOOKUP(Stationary_Combustion[[#This Row],[Fuel]], Custom_EF[], 11,FALSE)&"_to_"&'S1-Stationary Combustion'!H25, Conversions!$B$52:$F$162, Conversions!$E$52, FALSE))*Stationary_Combustion[[#This Row],[Amount of fuel]]/1000), "")) | J25: =IF(Stationary_Combustion[[#This Row],[Custom Emission Factors?]]="No", _xlfn.IFNA((VLOOKUP(Stationary_Combustion[[#This Row],[Fuel]], EF_Stationary_Combustion[], 4, FALSE)/IF(VLOOKUP(Stationary_Combustion[[#This Row],[Fuel]], EF_Stationary_Combustion[], 9,FALSE) ='S1-Stationary Combustion'!H25, 1, VLOOKUP(VLOOKUP(Stationary_Combustion[[#This Row],[Fuel]], EF_Stationary_Combustion[], 9,FALSE)&"_to_"&'S1-Stationary Combustion'!H25, Conversions!$B$52:$F$162, Conversions!$E$52, FALSE))*Stationary_Combustion[[#This Row],[Amount of fuel]]/1000000), ""), _xlfn.IFNA((VLOOKUP(Stationary_Combustion[[#This Row],[Fuel]], Custom_EF[], 6, FALSE)*IF(VLOOKUP(Stationary_Combustion[[#This Row],[Fuel]], Custom_EF[], 10, FALSE)="kg", 1, IF(VLOOKUP(Stationary_Combustion[[#This Row],[Fuel]], Custom_EF[], 10, FALSE)="g", 0.001, IF(VLOOKUP(Stationary_Combustion[[#This Row],[Fuel]], Custom_EF[], 10, FALSE)="tonne", 1000)))/IF(VLOOKUP(Stationary_Combustion[[#This Row],[Fuel]], Custom_EF[], 11,FALSE) ='S1-Stationary Combustion'!H25, 1, VLOOKUP(VLOOKUP(Stationary_Combustion[[#This Row],[Fuel]], Custom_EF[], 11,FALSE)&"_to_"&'S1-Stationary Combustion'!H25, Conversions!$B$52:$F$162, Conversions!$E$52, FALSE))*Stationary_Combustion[[#This Row],[Amount of fuel]]/1000), "")) | K25: =IF(Stationary_Combustion[[#This Row],[Custom Emission Factors?]]="No", _xlfn.IFNA((VLOOKUP(Stationary_Combustion[[#This Row],[Fuel]], EF_Stationary_Combustion[], 5, FALSE)/IF(VLOOKUP(Stationary_Combustion[[#This Row],[Fuel]], EF_Stationary_Combustion[], 9,FALSE) ='S1-Stationary Combustion'!H25, 1, VLOOKUP(VLOOKUP(Stationary_Combustion[[#This Row],[Fuel]], EF_Stationary_Combustion[], 9,FALSE)&"_to_"&'S1-Stationary Combustion'!H25, Conversions!$B$52:$F$162, Conversions!$E$52, FALSE))*Stationary_Combustion[[#This Row],[Amount of fuel]]/1000000), ""), _xlfn.IFNA((VLOOKUP(Stationary_Combustion[[#This Row],[Fuel]], Custom_EF[], 7, FALSE)*IF(VLOOKUP(Stationary_Combustion[[#This Row],[Fuel]], Custom_EF[], 10, FALSE)="kg", 1, IF(VLOOKUP(Stationary_Combustion[[#This Row],[Fuel]], Custom_EF[], 10, FALSE)="g", 0.001, IF(VLOOKUP(Stationary_Combustion[[#This Row],[Fuel]], Custom_EF[], 10, FALSE)="tonne", 1000)))/IF(VLOOKUP(Stationary_Combustion[[#This Row],[Fuel]], Custom_EF[], 11,FALSE) ='S1-Stationary Combustion'!H25, 1, VLOOKUP(VLOOKUP(Stationary_Combustion[[#This Row],[Fuel]], Custom_EF[], 11,FALSE)&"_to_"&'S1-Stationary Combustion'!H25, Conversions!$B$52:$F$162, Conversions!$E$52, FALSE))*Stationary_Combustion[[#This Row],[Amount of fuel]]/1000), "")) | L25: =IFERROR(IF(Parameters!$D$19="2014 IPCC Fifth Assessment", (I25*Data!$AJ$5)+(J25*Data!$AJ$6)+(K25*Data!$AJ$7), (I25*Data!$AI$5)+(J25*Data!$AI$6)+(K25*Data!$AI$7)), "") | M25: =IF(Stationary_Combustion[[#This Row],[Custom Emission Factors?]]="No", _xlfn.IFNA((VLOOKUP(Stationary_Combustion[[#This Row],[Fuel]], EF_Stationary_Combustion[], 6, FALSE)/IF(VLOOKUP(Stationary_Combustion[[#This Row],[Fuel]], EF_Stationary_Combustion[], 9,FALSE) ='S1-Stationary Combustion'!H25, 1, VLOOKUP(VLOOKUP(Stationary_Combustion[[#This Row],[Fuel]], EF_Stationary_Combustion[], 9,FALSE)&"_to_"&'S1-Stationary Combustion'!H25, Conversions!$B$52:$F$162, Conversions!$E$52, FALSE))*Stationary_Combustion[[#This Row],[Amount of fuel]]/1000), ""), _xlfn.IFNA((VLOOKUP(Stationary_Combustion[[#This Row],[Fuel]], Custom_EF[], 8, FALSE)*IF(VLOOKUP(Stationary_Combustion[[#This Row],[Fuel]], Custom_EF[], 10, FALSE)="kg", 1, IF(VLOOKUP(Stationary_Combustion[[#This Row],[Fuel]], Custom_EF[], 10, FALSE)="g", 0.001, IF(VLOOKUP(Stationary_Combustion[[#This Row],[Fuel]], Custom_EF[], 10, FALSE)="tonne", 1000)))/IF(VLOOKUP(Stationary_Combustion[[#This Row],[Fuel]], Custom_EF[], 10,FALSE) ='S1-Stationary Combustion'!H25, 1, VLOOKUP(VLOOKUP(Stationary_Combustion[[#This Row],[Fuel]], Custom_EF[], 10,FALSE)&"_to_"&'S1-Stationary Combustion'!H25, Conversions!$B$52:$F$162, Conversions!$E$52, FALSE))*Stationary_Combustion[[#This Row],[Amount of fuel]]/1000), "")) | N25: =IF(Stationary_Combustion[[#This Row],[Custom Emission Factors?]]="No", _xlfn.IFNA(VLOOKUP(F25, EF_Stationary_Combustion[], IF(Parameters!$D$19="2014 IPCC Fifth Assessment", 'Emission Factors'!$I$9, 'Emission Factors'!$H$9), FALSE), ""), _xlfn.IFNA(VLOOKUP(Stationary_Combustion[[#This Row],[Fuel]], Custom_EF[], 9, FALSE), "")) | O25: =IF(Stationary_Combustion[[#This Row],[EF (kgCO2e/unit)]]="", "", IF(Stationary_Combustion[[#This Row],[Custom Emission Factors?]]="Yes", VLOOKUP(Stationary_Combustion[[#This Row],[Fuel]], Custom_EF[], 4, FALSE), VLOOKUP(Stationary_Combustion[[#This Row],[Fuel]], EF_Stationary_Combustion[#All], 10, FALSE)))
